Workbook

Sheet 2023级博士
A1: 附件1（1）：2026年研究生学业奖学金分配表（2023级博士研究生）
A2: 序号 | B2: 研究生培养单位 | C2: 2023级博士生数 | D2: 总评选人数 | E2: 博士一等（10%）（15000元/生·年） | G2: 博士二等（10%）（10000元/生·年） | I2: 博士三等（20%）（6000元/生·年） | K2: 2023级博士预算总额(元）
E3: 基数 | F3: 金额 | G3: 基数 | H3: 金额 | I3: 基数 | J3: 金额
A4: 1 | B4: 教师教育学院 | C4: 0 | D4: =C4*0.4 -> 0 | E4: =C4*0.1 -> 0 | F4: =15000*E4 -> 0 | G4: =C4*0.1 -> 0 | H4: =G4*10000 -> 0 | I4: =C4*0.2 -> 0 | J4: =6000*I4 -> 0 | K4: =F4+H4+J4 -> 0
A5: 2 | B5: 教育学院 | C5: 5 | D5: =C5*0.4 -> 2 | E5: =C5*0.1 -> 0.5 | F5: =15000*E5 -> 7500 | G5: =C5*0.1 -> 0.5 | H5: =G5*10000 -> 5000 | I5: =C5*0.2 -> 1 | J5: =6000*I5 -> 6000 | K5: =F5+H5+J5 -> 18500
A6: 3 | B6: 心理学院 | C6: 3 | D6: =C6*0.4 -> 1.2 | E6: =C6*0.1 -> 0.3 | F6: =15000*E6 -> 4500 | G6: =C6*0.1 -> 0.3 | H6: =G6*10000 -> 3000 | I6: =C6*0.2 -> 0.6 | J6: =6000*I6 -> 3600 | K6: =F6+H6+J6 -> 11100
A7: 4 | B7: 经济学院 | C7: 5 | D7: =C7*0.4 -> 2 | E7: =C7*0.1 -> 0.5 | F7: =15000*E7 -> 7500 | G7: =C7*0.1 -> 0.5 | H7: =G7*10000 -> 5000 | I7: =C7*0.2 -> 1 | J7: =6000*I7 -> 6000 | K7: =F7+H7+J7 -> 18500
A8: 5 | B8: 法学院 | C8: 0 | D8: =C8*0.4 -> 0 | E8: =C8*0.1 -> 0 | F8: =15000*E8 -> 0 | G8: =C8*0.1 -> 0 | H8: =G8*10000 -> 0 | I8: =C8*0.2 -> 0 | J8: =6000*I8 -> 0 | K8: =F8+H8+J8 -> 0
A9: 6 | B9: 马克思主义学院 | C9: 17 | D9: =C9*0.4 -> 6.8 | E9: =C9*0.1 -> 1.7 | F9: =15000*E9 -> 25500 | G9: =C9*0.1 -> 1.7 | H9: =G9*10000 -> 17000 | I9: =C9*0.2 -> 3.4 | J9: =6000*I9 -> 20400 | K9: =F9+H9+J9 -> 62900
A10: 7 | B10: 纪检监察学院 | C10: 0 | D10: =C10*0.4 -> 0 | E10: =C10*0.1 -> 0 | F10: =15000*E10 -> 0 | G10: =C10*0.1 -> 0 | H10: =G10*10000 -> 0 | I10: =C10*0.2 -> 0 | J10: =6000*I10 -> 0 | K10: =F10+H10+J10 -> 0
A11: 8 | B11: 文学院 | C11: 16 | D11: =C11*0.4 -> 6.4 | E11: =C11*0.1 -> 1.6 | F11: =15000*E11 -> 24000 | G11: =C11*0.1 -> 1.6 | H11: =G11*10000 -> 16000 | I11: =C11*0.2 -> 3.2 | J11: =6000*I11 -> 19200 | K11: =F11+H11+J11 -> 59200
A12: 9 | B12: 外国语学院 | C12: 3 | D12: =C12*0.4 -> 1.2 | E12: =C12*0.1 -> 0.3 | F12: =15000*E12 -> 4500 | G12: =C12*0.1 -> 0.3 | H12: =G12*10000 -> 3000 | I12: =C12*0.2 -> 0.6 | J12: =6000*I12 -> 3600 | K12: =F12+H12+J12 -> 11100
A13: 10 | B13: 传播学院 | C13: 3 | D13: =C13*0.4 -> 1.2 | E13: =C13*0.1 -> 0.3 | F13: =15000*E13 -> 4500 | G13: =C13*0.1 -> 0.3 | H13: =G13*10000 -> 3000 | I13: =C13*0.2 -> 0.6 | J13: =6000*I13 -> 3600 | K13: =F13+H13+J13 -> 11100
A14: 11 | B14: 社会历史学院 | C14: 5 | D14: =C14*0.4 -> 2 | E14: =C14*0.1 -> 0.5 | F14: =15000*E14 -> 7500 | G14: =C14*0.1 -> 0.5 | H14: =G14*10000 -> 5000 | I14: =C14*0.2 -> 1 | J14: =6000*I14 -> 6000 | K14: =F14+H14+J14 -> 18500
A15: 12 | B15: 文化旅游与公共管理学院 | C15: 0 | D15: =C15*0.4 -> 0 | E15: =C15*0.1 -> 0 | F15: =15000*E15 -> 0 | G15: =C15*0.1 -> 0 | H15: =G15*10000 -> 0 | I15: =C15*0.2 -> 0 | J15: =6000*I15 -> 0 | K15: =F15+H15+J15 -> 0
... A29: 26 | B29: 中共福建省委党校 | C29: 0 | D29: =C29*0.4 -> 0 | E29: =C29*0.1 -> 0 | F29: =15000*E29 -> 0 | G29: =C29*0.1 -> 0 | H29: =G29*10000 -> 0 | I29: =C29*0.2 -> 0 | J29: =6000*I29 -> 0 | K29: =F29+H29+J29 -> 0
B30: 总计 | C30: 193 | D30: =C30*0.4 -> 77.2 | E30: =C30*0.1 -> 19.3 | F30: =SUM(F4:F29) -> 289500 | G30: =C30*0.1 -> 19.3 | H30: =SUM(H4:H29) -> 193000 | I30: =C30*0.2 -> 38.6 | J30: =SUM(J4:J29) -> 231600 | K30: =SUM(K4:K29) -> 714100
A31: 备注：2023级博士研究生人数少于4人（含4人）的学院，结合学院具体情况进行适当的动态调整，评选的博士研究生学业奖学金总人数不超过40%。

Sheet 2024级博士
A1: 附件1（2）：2026年研究生学业奖学金分配表（2024级博士研究生）
A2: 序号 | B2: 研究生培养单位 | C2: 2024级博士生数 | D2: 总评选人数 | E2: 博士一等（10%）（15000元/生·年） | G2: 博士二等（10%）（10000元/生·年） | I2: 博士三等（20%）（6000元/生·年） | K2: 2024级博士预算总额(元）
E3: 基数 | F3: 金额 | G3: 基数 | H3: 金额 | I3: 基数 | J3: 金额
A4: 1 | B4: 教师教育学院 | C4: 0 | D4: =C4*0.4 -> 0 | E4: =C4*0.1 -> 0 | F4: =E4*15000 -> 0 | G4: =C4*0.1 -> 0 | H4: =G4*10000 -> 0 | I4: =C4*0.2 -> 0 | J4: =I4*6000 -> 0 | K4: =F4+H4+J4 -> 0
A5: 2 | B5: 教育学院 | C5: 7 | D5: =C5*0.4 -> 2.8 | E5: =C5*0.1 -> 0.7 | F5: =E5*15000 -> 10500 | G5: =C5*0.1 -> 0.7 | H5: =G5*10000 -> 7000 | I5: =C5*0.2 -> 1.4 | J5: =I5*6000 -> 8400 | K5: =F5+H5+J5 -> 25900
A6: 3 | B6: 心理学院 | C6: 4 | D6: =C6*0.4 -> 1.6 | E6: =C6*0.1 -> 0.4 | F6: =E6*15000 -> 6000 | G6: =C6*0.1 -> 0.4 | H6: =G6*10000 -> 4000 | I6: =C6*0.2 -> 0.8 | J6: =I6*6000 -> 4800 | K6: =F6+H6+J6 -> 14800
A7: 4 | B7: 经济学院 | C7: 6 | D7: =C7*0.4 -> 2.4 | E7: =C7*0.1 -> 0.6 | F7: =E7*15000 -> 9000 | G7: =C7*0.1 -> 0.6 | H7: =G7*10000 -> 6000 | I7: =C7*0.2 -> 1.2 | J7: =I7*6000 -> 7200 | K7: =F7+H7+J7 -> 22200
A8: 5 | B8: 法学院 | C8: 0 | D8: =C8*0.4 -> 0 | E8: =C8*0.1 -> 0 | F8: =E8*15000 -> 0 | G8: =C8*0.1 -> 0 | H8: =G8*10000 -> 0 | I8: =C8*0.2 -> 0 | J8: =I8*6000 -> 0 | K8: =F8+H8+J8 -> 0
A9: 6 | B9: 马克思主义学院 | C9: 17 | D9: =C9*0.4 -> 6.8 | E9: =C9*0.1 -> 1.7 | F9: =E9*15000 -> 25500 | G9: =C9*0.1 -> 1.7 | H9: =G9*10000 -> 17000 | I9: =C9*0.2 -> 3.4 | J9: =I9*6000 -> 20400 | K9: =F9+H9+J9 -> 62900
A10: 7 | B10: 纪检监察学院 | C10: 0 | D10: =C10*0.4 -> 0 | E10: =C10*0.1 -> 0 | F10: =E10*15000 -> 0 | G10: =C10*0.1 -> 0 | H10: =G10*10000 -> 0 | I10: =C10*0.2 -> 0 | J10: =I10*6000 -> 0 | K10: =F10+H10+J10 -> 0
A11: 8 | B11: 文学院 | C11: 18 | D11: =C11*0.4 -> 7.2 | E11: =C11*0.1 -> 1.8 | F11: =E11*15000 -> 27000 | G11: =C11*0.1 -> 1.8 | H11: =G11*10000 -> 18000 | I11: =C11*0.2 -> 3.6 | J11: =I11*6000 -> 21600 | K11: =F11+H11+J11 -> 66600
A12: 9 | B12: 外国语学院 | C12: 6 | D12: =C12*0.4 -> 2.4 | E12: =C12*0.1 -> 0.6 | F12: =E12*15000 -> 9000 | G12: =C12*0.1 -> 0.6 | H12: =G12*10000 -> 6000 | I12: =C12*0.2 -> 1.2 | J12: =I12*6000 -> 7200 | K12: =F12+H12+J12 -> 22200
A13: 10 | B13: 传播学院 | C13: 8 | D13: =C13*0.4 -> 3.2 | E13: =C13*0.1 -> 0.8 | F13: =E13*15000 -> 12000 | G13: =C13*0.1 -> 0.8 | H13: =G13*10000 -> 8000 | I13: =C13*0.2 -> 1.6 | J13: =I13*6000 -> 9600 | K13: =F13+H13+J13 -> 29600
A14: 11 | B14: 社会历史学院 | C14: 7 | D14: =C14*0.4 -> 2.8 | E14: =C14*0.1 -> 0.7 | F14: =E14*15000 -> 10500 | G14: =C14*0.1 -> 0.7 | H14: =G14*10000 -> 7000 | I14: =C14*0.2 -> 1.4 | J14: =I14*6000 -> 8400 | K14: =F14+H14+J14 -> 25900
A15: 12 | B15: 文化旅游与公共管理学院 | C15: 0 | D15: =C15*0.4 -> 0 | E15: =C15*0.1 -> 0 | F15: =E15*15000 -> 0 | G15: =C15*0.1 -> 0 | H15: =G15*10000 -> 0 | I15: =C15*0.2 -> 0 | J15: =I15*6000 -> 0 | K15: =F15+H15+J15 -> 0
... A29: 26 | B29: 中共福建省委党校 | C29: 0 | D29: =C29*0.4 -> 0 | E29: =C29*0.1 -> 0 | F29: =E29*15000 -> 0 | G29: =C29*0.1 -> 0 | H29: =G29*10000 -> 0 | I29: =C29*0.2 -> 0 | J29: =I29*6000 -> 0 | K29: =F29+H29+J29 -> 0
B30: 总计 | C30: 230 | D30: =C30*0.4 -> 92 | E30: =C30*0.1 -> 23 | F30: =E30*15000 -> 345000 | G30: =C30*0.1 -> 23 | H30: =SUM(H4:H29) -> 230000 | I30: =SUM(I4:I29) -> 46 | J30: =I30*6000 -> 276000 | K30: =SUM(K4:K29) -> 851000

Sheet 2025级博士
A1: 附件1（3）：2026年研究生学业奖学金分配表（2025级博士研究生）
A2: 序号 | B2: 研究生培养单位 | C2: 2025级博士生数 | D2: 总评选人数 | E2: 博士一等（10%）（15000元/生·年） | G2: 博士二等（10%）（10000元/生·年） | I2: 博士三等（20%）（6000元/生·年） | K2: 2025级博士预算总额(元）
E3: 基数 | F3: 金额 | G3: 基数 | H3: 金额 | I3: 基数 | J3: 金额
A4: 1 | B4: 教师教育学院 | C4: 0 | D4: =C4*0.4 -> 0 | E4: =C4*0.1 -> 0 | F4: =15000*E4 -> 0 | G4: =C4*0.1 -> 0 | H4: =G4*10000 -> 0 | I4: =C4*0.2 -> 0 | J4: =I4*6000 -> 0 | K4: =F4+H4+J4 -> 0
A5: 2 | B5: 教育学院 | C5: 10 | D5: =C5*0.4 -> 4 | E5: =C5*0.1 -> 1 | F5: =15000*E5 -> 15000 | G5: =C5*0.1 -> 1 | H5: =G5*10000 -> 10000 | I5: =C5*0.2 -> 2 | J5: =I5*6000 -> 12000 | K5: =F5+H5+J5 -> 37000
A6: 3 | B6: 心理学院 | C6: 5 | D6: =C6*0.4 -> 2 | E6: =C6*0.1 -> 0.5 | F6: =15000*E6 -> 7500 | G6: =C6*0.1 -> 0.5 | H6: =G6*10000 -> 5000 | I6: =C6*0.2 -> 1 | J6: =I6*6000 -> 6000 | K6: =F6+H6+J6 -> 18500
A7: 4 | B7: 经济学院 | C7: 5 | D7: =C7*0.4 -> 2 | E7: =C7*0.1 -> 0.5 | F7: =15000*E7 -> 7500 | G7: =C7*0.1 -> 0.5 | H7: =G7*10000 -> 5000 | I7: =C7*0.2 -> 1 | J7: =I7*6000 -> 6000 | K7: =F7+H7+J7 -> 18500
A8: 5 | B8: 法学院 | C8: 0 | D8: =C8*0.4 -> 0 | E8: =C8*0.1 -> 0 | F8: =15000*E8 -> 0 | G8: =C8*0.1 -> 0 | H8: =G8*10000 -> 0 | I8: =C8*0.2 -> 0 | J8: =I8*6000 -> 0 | K8: =F8+H8+J8 -> 0
A9: 6 | B9: 马克思主义学院 | C9: 18 | D9: =C9*0.4 -> 7.2 | E9: =C9*0.1 -> 1.8 | F9: =15000*E9 -> 27000 | G9: =C9*0.1 -> 1.8 | H9: =G9*10000 -> 18000 | I9: =C9*0.2 -> 3.6 | J9: =I9*6000 -> 21600 | K9: =F9+H9+J9 -> 66600
A10: 7 | B10: 纪检监察学院 | C10: 0 | D10: =C10*0.4 -> 0 | E10: =C10*0.1 -> 0 | F10: =15000*E10 -> 0 | G10: =C10*0.1 -> 0 | H10: =G10*10000 -> 0 | I10: =C10*0.2 -> 0 | J10: =I10*6000 -> 0 | K10: =F10+H10+J10 -> 0
A11: 8 | B11: 文学院 | C11: 20 | D11: =C11*0.4 -> 8 | E11: =C11*0.1 -> 2 | F11: =15000*E11 -> 30000 | G11: =C11*0.1 -> 2 | H11: =G11*10000 -> 20000 | I11: =C11*0.2 -> 4 | J11: =I11*6000 -> 24000 | K11: =F11+H11+J11 -> 74000
A12: 9 | B12: 外国语学院 | C12: 5 | D12: =C12*0.4 -> 2 | E12: =C12*0.1 -> 0.5 | F12: =15000*E12 -> 7500 | G12: =C12*0.1 -> 0.5 | H12: =G12*10000 -> 5000 | I12: =C12*0.2 -> 1 | J12: =I12*6000 -> 6000 | K12: =F12+H12+J12 -> 18500
A13: 10 | B13: 传播学院 | C13: 8 | D13: =C13*0.4 -> 3.2 | E13: =C13*0.1 -> 0.8 | F13: =15000*E13 -> 12000 | G13: =C13*0.1 -> 0.8 | H13: =G13*10000 -> 8000 | I13: =C13*0.2 -> 1.6 | J13: =I13*6000 -> 9600 | K13: =F13+H13+J13 -> 29600
A14: 11 | B14: 社会历史学院 | C14: 9 | D14: =C14*0.4 -> 3.6 | E14: =C14*0.1 -> 0.9 | F14: =15000*E14 -> 13500 | G14: =C14*0.1 -> 0.9 | H14: =G14*10000 -> 9000 | I14: =C14*0.2 -> 1.8 | J14: =I14*6000 -> 10800 | K14: =F14+H14+J14 -> 33300
A15: 12 | B15: 文化旅游与公共管理学院 | C15: 0 | D15: =C15*0.4 -> 0 | E15: =C15*0.1 -> 0 | F15: =15000*E15 -> 0 | G15: =C15*0.1 -> 0 | H15: =G15*10000 -> 0 | I15: =C15*0.2 -> 0 | J15: =I15*6000 -> 0 | K15: =F15+H15+J15 -> 0
... A29: 26 | B29: 中共福建省委党校 | C29: 0 | D29: =C29*0.4 -> 0 | E29: =C29*0.1 -> 0 | F29: =15000*E29 -> 0 | G29: =C29*0.1 -> 0 | H29: =G29*10000 -> 0 | I29: =C29*0.2 -> 0 | J29: =I29*6000 -> 0 | K29: =F29+H29+J29 -> 0
B30: 总计 | C30: 262 | D30: =SUM(D4:D29) -> 104.8 | E30: =SUM(E4:E29) -> 26.2 | F30: =SUM(F4:F29) -> 393000 | G30: =SUM(G4:G29) -> 26.2 | H30: =SUM(H4:H29) -> 262000 | I30: =SUM(I4:I29) -> 52.4 | J30: =SUM(J4:J29) -> 314400 | K30: =SUM(K4:K29) -> 969400

Sheet 2024级硕士
A1: 附件1（4）：2026年研究生学业奖学金分配表（2024级硕士）
A2: 序号 | B2: 研究生培养单位 | C2: 2024级硕士生数 | D2: 硕士一等（10%）（10000元/生·年） | F2: 硕士二等（10%）（6000元/生·年） | H2: 硕士三等（20%）（3000元/生·年） | J2: 海西联培（2200/人） | L2: 2024级硕士预算总额(元）
D3: 基数 | E3: 金额 | F3: 基数 | G3: 金额 | H3: 基数 | I3: 金额 | J3: 基数 | K3: 金额
A4: 1 | B4: 教师教育学院 | C4: 0 | D4: 0 | E4: =D4*10000 -> 0 | F4: 0 | G4: =F4*6000 -> 0 | H4: 0 | I4: =H4*3000 -> 0 | L4: =E4+G4+I4+K4 -> 0
A5: 2 | B5: 教育学院 | C5: 113 | D5: 11 | E5: =D5*10000 -> 110000 | F5: 11 | G5: =F5*6000 -> 66000 | H5: 23 | I5: =H5*3000 -> 69000 | L5: =E5+G5+I5+K5 -> 245000
A6: 3 | B6: 心理学院 | C6: 110 | D6: 11 | E6: =D6*10000 -> 110000 | F6: 11 | G6: =F6*6000 -> 66000 | H6: 22 | I6: =H6*3000 -> 66000 | L6: =E6+G6+I6+K6 -> 242000
A7: 4 | B7: 经济学院 | C7: 154 | D7: 15 | E7: =D7*10000 -> 150000 | F7: 15 | G7: =F7*6000 -> 90000 | H7: 31 | I7: =H7*3000 -> 93000 | L7: =E7+G7+I7+K7 -> 333000
A8: 5 | B8: 法学院 | C8: 94 | D8: 9 | E8: =D8*10000 -> 90000 | F8: 9 | G8: =F8*6000 -> 54000 | H8: 19 | I8: =H8*3000 -> 57000 | L8: =E8+G8+I8+K8 -> 201000
A9: 6 | B9: 马克思主义学院 | C9: 105 | D9: 11 | E9: =D9*10000 -> 110000 | F9: 11 | G9: =F9*6000 -> 66000 | H9: 21 | I9: =H9*3000 -> 63000 | L9: =E9+G9+I9+K9 -> 239000
A10: 7 | B10: 纪检监察学院 | C10: 0 | D10: 0 | E10: =D10*10000 -> 0 | F10: 0 | G10: =F10*6000 -> 0 | H10: 0 | I10: =H10*3000 -> 0 | L10: =E10+G10+I10+K10 -> 0
A11: 8 | B11: 文学院 | C11: 234 | D11: 23 | E11: =D11*10000 -> 230000 | F11: 23 | G11: =F11*6000 -> 138000 | H11: 47 | I11: =H11*3000 -> 141000 | L11: =E11+G11+I11+K11 -> 509000
A12: 9 | B12: 外国语学院 | C12: 156 | D12: 16 | E12: =D12*10000 -> 160000 | F12: 16 | G12: =F12*6000 -> 96000 | H12: 31 | I12: =H12*3000 -> 93000 | L12: =E12+G12+I12+K12 -> 349000
A13: 10 | B13: 传播学院 | C13: 112 | D13: 11 | E13: =D13*10000 -> 110000 | F13: 11 | G13: =F13*6000 -> 66000 | H13: 22 | I13: =H13*3000 -> 66000 | L13: =E13+G13+I13+K13 -> 242000
A14: 11 | B14: 社会历史学院 | C14: 181 | D14: 18 | E14: =D14*10000 -> 180000 | F14: 18 | G14: =F14*6000 -> 108000 | H14: 36 | I14: =H14*3000 -> 108000 | L14: =E14+G14+I14+K14 -> 396000
A15: 12 | B15: 文化旅游与公共管理学院 | C15: 57 | D15: 6 | E15: =D15*10000 -> 60000 | F15: 6 | G15: =F15*6000 -> 36000 | H15: 11 | I15: =H15*3000 -> 33000 | L15: =E15+G15+I15+K15 -> 129000
... A19: 16 | B19: 数学与统计学院 | C19: 110 | D19: 11 | E19: =D19*10000 -> 110000 | F19: 11 | G19: =F19*6000 -> 66000 | H19: 22 | I19: =H19*3000 -> 66000 | L19: =E19+G19+I19+K19 -> 242000
A20: 17 | B20: 计算机与网络空间安全学院 | C20: 129 | D20: 13 | E20: =D20*10000 -> 130000 | F20: 13 | G20: =F20*6000 -> 78000 | H20: 26 | I20: =H20*3000 -> 78000 | J20: 22 | K20: =J20*2200 -> 48400 | L20: =E20+G20+I20+K20 -> 334400
A21: 18 | B21: 物理与能源学院 | C21: 113 | D21: 11 | E21: =D21*10000 -> 110000 | F21: 11 | G21: =F21*6000 -> 66000 | H21: 23 | I21: =H21*3000 -> 69000 | J21: 13 | K21: =J21*2200 -> 28600 | L21: =E21+G21+I21+K21 -> 273600
A22: 19 | B22: 光电与信息工程学院 | C22: 132 | D22: 13 | E22: =D22*10000 -> 130000 | F22: 13 | G22: =F22*6000 -> 78000 | H22: 26 | I22: =H22*3000 -> 78000 | L22: =E22+G22+I22+K22 -> 286000
A23: 20 | B23: 化学与材料学院 | C23: 131 | D23: 13 | E23: =D23*10000 -> 130000 | F23: 13 | G23: =F23*6000 -> 78000 | H23: 26 | I23: =H23*3000 -> 78000 | J23: 108 | K23: =J23*2200 -> 237600 | L23: =E23+G23+I23+K23 -> 523600
A24: 21 | B24: 环境与资源学院、碳中和现代产业学院 | C24: 92 | D24: 9 | E24: =D24*10000 -> 90000 | F24: 9 | G24: =F24*6000 -> 54000 | H24: 18 | I24: =H24*3000 -> 54000 | L24: =E24+G24+I24+K24 -> 198000
A25: 22 | B25: 地理科学学院、碳中和未来技术学院 | C25: 180 | D25: 18 | E25: =D25*10000 -> 180000 | F25: 18 | G25: =F25*6000 -> 108000 | H25: 36 | I25: =H25*3000 -> 108000 | L25: =E25+G25+I25+K25 -> 396000
A26: 23 | B26: 生命科学学院 | C26: 130 | D26: 13 | E26: =D26*10000 -> 130000 | F26: 13 | G26: =F26*6000 -> 78000 | H26: 26 | I26: =H26*3000 -> 78000 | L26: =E26+G26+I26+K26 -> 286000
A27: 24 | B27: 海外教育学院 | C27: 38 | D27: 4 | E27: =D27*10000 -> 40000 | F27: 4 | G27: =F27*6000 -> 24000 | H27: 8 | I27: =H27*3000 -> 24000 | L27: =E27+G27+I27+K27 -> 88000
A28: 25 | B28: 海峡柔性电子学院 | C28: 60 | D28: 6 | E28: =D28*10000 -> 60000 | F28: 6 | G28: =F28*6000 -> 36000 | H28: 12 | I28: =H28*3000 -> 36000 | L28: =E28+G28+I28+K28 -> 132000
A29: 26 | B29: 中共福建省委党校 | C29: 15 | D29: 2 | E29: =D29*10000 -> 20000 | F29: 2 | G29: =F29*6000 -> 12000 | H29: 3 | I29: =H29*3000 -> 9000 | L29: =E29+G29+I29+K29 -> 41000
B30: 总计 | C30: 2934 | D30: =SUM(D4:D29) -> 279 | E30: =SUM(E4:E29) -> 2790000 | F30: =SUM(F4:F29) -> 279 | G30: =SUM(G4:G29) -> 1674000 | H30: =SUM(H4:H29) -> 558 | I30: =SUM(I4:I29) -> 1674000 | J30: =SUM(J4:J28) -> 143 | K30: =SUM(K4:K28) -> 314600 | L30: =SUM(L4:L29) -> 6452600

Sheet 2025级硕士
A1: 附件1（5）：2026年研究生学业奖学金分配表（2025级硕士）
A2: 序号 | B2: 研究生培养单位 | C2: 2025级硕士生数 | D2: 硕士一等（10%）（10000元/生·年） | F2: 硕士二等（10%）（6000元/生·年） | H2: 硕士三等（20%）（3000元/生·年） | J2: 海西联培（2200/人） | L2: 2025级硕士预算总额(元）
D3: 基数 | E3: 金额 | F3: 基数 | G3: 金额 | H3: 基数 | I3: 金额 | J3: 基数 | K3: 金额
A4: 1 | B4: 教师教育学院 | C4: 59 | D4: 6 | E4: =D4*10000 -> 60000 | F4: 6 | G4: =F4*6000 -> 36000 | H4: 12 | I4: =H4*3000 -> 36000 | L4: =E4+G4+I4+K4 -> 132000
A5: 2 | B5: 教育学院 | C5: 105 | D5: 11 | E5: =D5*10000 -> 110000 | F5: 11 | G5: =F5*6000 -> 66000 | H5: 21 | I5: =H5*3000 -> 63000 | L5: =E5+G5+I5+K5 -> 239000
A6: 3 | B6: 心理学院 | C6: 96 | D6: 10 | E6: =D6*10000 -> 100000 | F6: 10 | G6: =F6*6000 -> 60000 | H6: 19 | I6: =H6*3000 -> 57000 | L6: =E6+G6+I6+K6 -> 217000
A7: 4 | B7: 经济学院 | C7: 165 | D7: 17 | E7: =D7*10000 -> 170000 | F7: 17 | G7: =F7*6000 -> 102000 | H7: 33 | I7: =H7*3000 -> 99000 | L7: =E7+G7+I7+K7 -> 371000
A8: 5 | B8: 法学院 | C8: 96 | D8: 10 | E8: =D8*10000 -> 100000 | F8: 10 | G8: =F8*6000 -> 60000 | H8: 19 | I8: =H8*3000 -> 57000 | L8: =E8+G8+I8+K8 -> 217000
A9: 6 | B9: 马克思主义学院 | C9: 163 | D9: 16 | E9: =D9*10000 -> 160000 | F9: 16 | G9: =F9*6000 -> 96000 | H9: 33 | I9: =H9*3000 -> 99000 | L9: =E9+G9+I9+K9 -> 355000
A10: 7 | B10: 纪检监察学院 | C10: 16 | D10: 2 | E10: =D10*10000 -> 20000 | F10: 2 | G10: =F10*6000 -> 12000 | H10: 3 | I10: =H10*3000 -> 9000 | L10: =E10+G10+I10+K10 -> 41000
A11: 8 | B11: 文学院 | C11: 247 | D11: 25 | E11: =D11*10000 -> 250000 | F11: 25 | G11: =F11*6000 -> 150000 | H11: 49 | I11: =H11*3000 -> 147000 | L11: =E11+G11+I11+K11 -> 547000
A12: 9 | B12: 外国语学院 | C12: 220 | D12: 22 | E12: =D12*10000 -> 220000 | F12: 22 | G12: =F12*6000 -> 132000 | H12: 44 | I12: =H12*3000 -> 132000 | L12: =E12+G12+I12+K12 -> 484000
A13: 10 | B13: 传播学院 | C13: 112 | D13: 11 | E13: =D13*10000 -> 110000 | F13: 11 | G13: =F13*6000 -> 66000 | H13: 22 | I13: =H13*3000 -> 66000 | L13: =E13+G13+I13+K13 -> 242000
A14: 11 | B14: 社会历史学院 | C14: 207 | D14: 21 | E14: =D14*10000 -> 210000 | F14: 21 | G14: =F14*6000 -> 126000 | H14: 41 | I14: =H14*3000 -> 123000 | L14: =E14+G14+I14+K14 -> 459000
A15: 12 | B15: 文化旅游与公共管理学院 | C15: 96 | D15: 10 | E15: =D15*10000 -> 100000 | F15: 10 | G15: =F15*6000 -> 60000 | H15: 19 | I15: =H15*3000 -> 57000 | L15: =E15+G15+I15+K15 -> 217000
... A19: 16 | B19: 数学与统计学院 | C19: 144 | D19: 14 | E19: =D19*10000 -> 140000 | F19: 14 | G19: =F19*6000 -> 84000 | H19: 29 | I19: =H19*3000 -> 87000 | L19: =E19+G19+I19+K19 -> 311000
A20: 17 | B20: 计算机与网络空间安全学院 | C20: 137 | D20: 14 | E20: =D20*10000 -> 140000 | F20: 14 | G20: =F20*6000 -> 84000 | H20: 27 | I20: =H20*3000 -> 81000 | J20: 20 | K20: =J20*2200 -> 44000 | L20: =E20+G20+I20+K20 -> 349000
A21: 18 | B21: 物理与能源学院 | C21: 123 | D21: 12 | E21: =D21*10000 -> 120000 | F21: 12 | G21: =F21*6000 -> 72000 | H21: 25 | I21: =H21*3000 -> 75000 | J21: 7 | K21: =J21*2200 -> 15400 | L21: =E21+G21+I21+K21 -> 282400
A22: 19 | B22: 光电与信息工程学院 | C22: 140 | D22: 14 | E22: =D22*10000 -> 140000 | F22: 14 | G22: =F22*6000 -> 84000 | H22: 28 | I22: =H22*3000 -> 84000 | L22: =E22+G22+I22+K22 -> 308000
A23: 20 | B23: 化学与材料学院 | C23: 191 | D23: 19 | E23: =D23*10000 -> 190000 | F23: 19 | G23: =F23*6000 -> 114000 | H23: 38 | I23: =H23*3000 -> 114000 | J23: 103 | K23: =J23*2200 -> 226600 | L23: =E23+G23+I23+K23 -> 644600
A24: 21 | B24: 环境与资源学院、碳中和现代产业学院 | C24: 80 | D24: 8 | E24: =D24*10000 -> 80000 | F24: 8 | G24: =F24*6000 -> 48000 | H24: 16 | I24: =H24*3000 -> 48000 | L24: =E24+G24+I24+K24 -> 176000
A25: 22 | B25: 地理科学学院、碳中和未来技术学院 | C25: 292 | D25: 29 | E25: =D25*10000 -> 290000 | F25: 29 | G25: =F25*6000 -> 174000 | H25: 58 | I25: =H25*3000 -> 174000 | L25: =E25+G25+I25+K25 -> 638000
A26: 23 | B26: 生命科学学院 | C26: 188 | D26: 19 | E26: =D26*10000 -> 190000 | F26: 19 | G26: =F26*6000 -> 114000 | H26: 38 | I26: =H26*3000 -> 114000 | L26: =E26+G26+I26+K26 -> 418000
A27: 24 | B27: 海外教育学院 | C27: 39 | D27: 4 | E27: =D27*10000 -> 40000 | F27: 4 | G27: =F27*6000 -> 24000 | H27: 8 | I27: =H27*3000 -> 24000 | L27: =E27+G27+I27+K27 -> 88000
A28: 25 | B28: 海峡柔性电子学院 | C28: 50 | D28: 5 | E28: =D28*10000 -> 50000 | F28: 5 | G28: =F28*6000 -> 30000 | H28: 10 | I28: =H28*3000 -> 30000 | L28: =E28+G28+I28+K28 -> 110000
A29: 26 | B29: 中共福建省委党校 | C29: 14 | D29: 1 | E29: =D29*10000 -> 10000 | F29: 1 | G29: =F29*6000 -> 6000 | H29: 3 | I29: =H29*3000 -> 9000 | L29: =E29+G29+I29+K29 -> 25000
B30: 总计 | C30: 3465 | D30: =SUM(D4:D29) -> 336 | E30: =SUM(E4:E29) -> 3360000 | F30: =SUM(F4:F29) -> 336 | G30: =SUM(G4:G29) -> 2016000 | H30: =SUM(H4:H29) -> 666 | I30: =SUM(I4:I29) -> 1998000 | J30: =SUM(J4:J28) -> 130 | K30: =SUM(K4:K28) -> 286000 | L30: =SUM(L4:L29) -> 7660000

Sheet 2026级硕士
A1: 附件1（6）：2026年研究生学业奖学金分配表（2026级硕士）
A2: 序号 | B2: 研究生培养单位 | C2: 2026级硕士生数 | D2: 硕士一等（推免100%+统考5%） （10000元/生·年） | H2: 硕士二等（10%）（6000元/生·年） | J2: 硕士三等（20%）（3000元/生·年） | L2: 海西联培（2200/人） | N2: 2026级硕士预算总额(元）
D3: 推免生 | E3: 金额 | F3: 统考生 | G3: 金额 | H3: 基数 | I3: 金额 | J3: 基数 | K3: 金额 | L3: 基数 | M3: 金额
A4: 1 | B4: 教师教育学院 | C4: 58 | D4: 3 | E4: =D4*10000 -> 30000 | F4: 3 | G4: =F4*10000 -> 30000 | H4: 6 | I4: =H4*6000 -> 36000 | J4: 11 | K4: =J4*3000 -> 33000 | N4: =E4+G4+I4+K4+M4 -> 129000 | P4: =C4-D4 -> 55
A5: 2 | B5: 教育学院 | C5: 121 | D5: 2 | E5: =D5*10000 -> 20000 | F5: 6 | G5: =F5*10000 -> 60000 | H5: 12 | I5: =H5*6000 -> 72000 | J5: 24 | K5: =J5*3000 -> 72000 | N5: =E5+G5+I5+K5+M5 -> 224000 | P5: =C5-D5 -> 119
A6: 3 | B6: 心理学院 | C6: 112 | D6: 3 | E6: =D6*10000 -> 30000 | F6: 5 | G6: =F6*10000 -> 50000 | H6: 11 | I6: =H6*6000 -> 66000 | J6: 22 | K6: =J6*3000 -> 66000 | N6: =E6+G6+I6+K6+M6 -> 212000 | P6: =C6-D6 -> 109
A7: 4 | B7: 经济学院 | C7: 159 | D7: 5 | E7: =D7*10000 -> 50000 | F7: 8 | G7: =F7*10000 -> 80000 | H7: 15 | I7: =H7*6000 -> 90000 | J7: 31 | K7: =J7*3000 -> 93000 | N7: =E7+G7+I7+K7+M7 -> 313000 | P7: =C7-D7 -> 154
A8: 5 | B8: 法学院 | C8: 99 | D8: 0 | E8: =D8*10000 -> 0 | F8: 5 | G8: =F8*10000 -> 50000 | H8: 10 | I8: =H8*6000 -> 60000 | J8: 20 | K8: =J8*3000 -> 60000 | N8: =E8+G8+I8+K8+M8 -> 170000 | P8: =C8-D8 -> 99
A9: 6 | B9: 马克思主义学院 | C9: 125 | D9: 9 | E9: =D9*10000 -> 90000 | F9: 6 | G9: =F9*10000 -> 60000 | H9: 12 | I9: =H9*6000 -> 72000 | J9: 23 | K9: =J9*3000 -> 69000 | N9: =E9+G9+I9+K9+M9 -> 291000 | P9: =C9-D9 -> 116
A10: 7 | B10: 纪检监察学院 | C10: 25 | D10: 0 | E10: =D10*10000 -> 0 | F10: 1 | G10: =F10*10000 -> 10000 | H10: 3 | I10: =H10*6000 -> 18000 | J10: 5 | K10: =J10*3000 -> 15000 | N10: =E10+G10+I10+K10+M10 -> 43000 | P10: =C10-D10 -> 25
A11: 8 | B11: 文学院 | C11: 263 | D11: 30 | E11: =D11*10000 -> 300000 | F11: 12 | G11: =F11*10000 -> 120000 | H11: 23 | I11: =H11*6000 -> 138000 | J11: 47 | K11: =J11*3000 -> 141000 | N11: =E11+G11+I11+K11+M11 -> 699000 | P11: =C11-D11 -> 233
A12: 9 | B12: 外国语学院 | C12: 229 | D12: 7 | E12: =D12*10000 -> 70000 | F12: 11 | G12: =F12*10000 -> 110000 | H12: 22 | I12: =H12*6000 -> 132000 | J12: 44 | K12: =J12*3000 -> 132000 | N12: =E12+G12+I12+K12+M12 -> 444000 | P12: =C12-D12 -> 222
A13: 10 | B13: 传播学院 | C13: 127 | D13: 2 | E13: =D13*10000 -> 20000 | F13: 6 | G13: =F13*10000 -> 60000 | H13: 13 | I13: =H13*6000 -> 78000 | J13: 25 | K13: =J13*3000 -> 75000 | N13: =E13+G13+I13+K13+M13 -> 233000 | P13: =C13-D13 -> 125
A14: 11 | B14: 社会历史学院 | C14: 207 | D14: 31 | E14: =D14*10000 -> 310000 | F14: 9 | G14: =F14*10000 -> 90000 | H14: 18 | I14: =H14*6000 -> 108000 | J14: 35 | K14: =J14*3000 -> 105000 | N14: =E14+G14+I14+K14+M14 -> 613000 | P14: =C14-D14 -> 176
A15: 12 | B15: 文化旅游与公共管理学院 | C15: 95 | D15: 2 | E15: =D15*10000 -> 20000 | F15: 5 | G15: =F15*10000 -> 50000 | H15: 9 | I15: =H15*6000 -> 54000 | J15: 19 | K15: =J15*3000 -> 57000 | N15: =E15+G15+I15+K15+M15 -> 181000 | P15: =C15-D15 -> 93
... A19: 16 | B19: 数学与统计学院 | C19: 151 | D19: 14 | E19: =D19*10000 -> 140000 | F19: 7 | G19: =F19*10000 -> 70000 | H19: 14 | I19: =H19*6000 -> 84000 | J19: 27 | K19: =J19*3000 -> 81000 | N19: =E19+G19+I19+K19+M19 -> 375000 | P19: =C19-D19 -> 137
A20: 17 | B20: 计算机与网络空间安全学院 | C20: 167 | D20: 2 | E20: =D20*10000 -> 20000 | F20: 8 | G20: =F20*10000 -> 80000 | H20: 17 | I20: =H20*6000 -> 102000 | J20: 33 | K20: =J20*3000 -> 99000 | L20: 22 | M20: =L20*2200 -> 48400 | N20: =E20+G20+I20+K20+M20 -> 349400 | P20: =C20-D20 -> 165
A21: 18 | B21: 物理与能源学院 | C21: 141 | D21: 1 | E21: =D21*10000 -> 10000 | F21: 7 | G21: =F21*10000 -> 70000 | H21: 14 | I21: =H21*6000 -> 84000 | J21: 28 | K21: =J21*3000 -> 84000 | L21: 9 | M21: =L21*2200 -> 19800 | N21: =E21+G21+I21+K21+M21 -> 267800 | P21: =C21-D21 -> 140
A22: 19 | B22: 光电与信息工程学院 | C22: 148 | D22: 1 | E22: =D22*10000 -> 10000 | F22: 7 | G22: =F22*10000 -> 70000 | H22: 15 | I22: =H22*6000 -> 90000 | J22: 29 | K22: =J22*3000 -> 87000 | N22: =E22+G22+I22+K22+M22 -> 257000 | P22: =C22-D22 -> 147
A23: 20 | B23: 化学与材料学院 | C23: 204 | D23: 30 | E23: =D23*10000 -> 300000 | F23: 9 | G23: =F23*10000 -> 90000 | H23: 17 | I23: =H23*6000 -> 102000 | J23: 35 | K23: =J23*3000 -> 105000 | L23: 103 | M23: =L23*2200 -> 226600 | N23: =E23+G23+I23+K23+M23 -> 823600 | P23: =C23-D23 -> 174
A24: 21 | B24: 环境与资源学院、碳中和现代产业学院 | C24: 93 | D24: 0 | E24: =D24*10000 -> 0 | F24: 5 | G24: =F24*10000 -> 50000 | H24: 9 | I24: =H24*6000 -> 54000 | J24: 19 | K24: =J24*3000 -> 57000 | N24: =E24+G24+I24+K24+M24 -> 161000 | P24: =C24-D24 -> 93
A25: 22 | B25: 地理科学学院、碳中和未来技术学院 | C25: 268 | D25: 20 | E25: =D25*10000 -> 200000 | F25: 12 | G25: =F25*10000 -> 120000 | H25: 25 | I25: =H25*6000 -> 150000 | J25: 50 | K25: =J25*3000 -> 150000 | N25: =E25+G25+I25+K25+M25 -> 620000 | P25: =C25-D25 -> 248
A26: 23 | B26: 生命科学学院 | C26: 189 | D26: 13 | E26: =D26*10000 -> 130000 | F26: 9 | G26: =F26*10000 -> 90000 | H26: 18 | I26: =H26*6000 -> 108000 | J26: 35 | K26: =J26*3000 -> 105000 | N26: =E26+G26+I26+K26+M26 -> 433000 | P26: =C26-D26 -> 176
A27: 24 | B27: 海外教育学院 | C27: 41 | D27: 0 | E27: =D27*10000 -> 0 | F27: 2 | G27: =F27*10000 -> 20000 | H27: 4 | I27: =H27*6000 -> 24000 | J27: 8 | K27: =J27*3000 -> 24000 | N27: =E27+G27+I27+K27+M27 -> 68000 | P27: =C27-D27 -> 41
A28: 25 | B28: 海峡柔性电子学院 | C28: 77 | D28: 0 | E28: =D28*10000 -> 0 | F28: 4 | G28: =F28*10000 -> 40000 | H28: 8 | I28: =H28*6000 -> 48000 | J28: 15 | K28: =J28*3000 -> 45000 | N28: =E28+G28+I28+K28+M28 -> 133000 | P28: =C28-D28 -> 77
A29: 26 | B29: 中共福建省委党校 | C29: 15 | D29: 0 | E29: =D29*10000 -> 0 | F29: 1 | G29: =F29*10000 -> 10000 | H29: 2 | I29: =H29*6000 -> 12000 | J29: 3 | K29: =J29*3000 -> 9000 | N29: =E29+G29+I29+K29+M29 -> 31000 | P29: =C29-D29 -> 15
B30: 总计 | C30: 3621 | D30: =SUM(D4:D29) -> 220 | E30: =SUM(E4:E29) -> 2200000 | F30: =SUM(F4:F29) -> 165 | G30: =SUM(G4:G29) -> 1650000 | H30: =SUM(H4:H29) -> 330 | I30: =SUM(I4:I29) -> 1980000 | J30: =SUM(J4:J29) -> 654 | K30: =SUM(K4:K29) -> 1962000 | ... N30: =SUM(N4:N29) -> 8086800 | P30: =C30-D30 -> 3401

Sheet 2026年合计
A1: 附件1（7）：2026年研究生奖学金分配表（合计）
A2: 序号 | B2: 研究生培养单位 | C2: 2023级博士预算金额 | D2: 2024级博士预算金额 | E2: 2025级博士预算金额 | F2: 2024级硕士预算金额 | G2: 2025级硕士预算金额 | H2: 2026级硕士预算金额 | I2: 2026年总预算
A4: 1 | B4: 教师教育学院 | C4: ='2023级博士'!K4 -> 0 | D4: ='2024级博士'!K4 -> 0 | E4: ='2025级博士'!K4 -> 0 | F4: ='2024级硕士'!L4 -> 0 | G4: ='2025级硕士'!L4 -> 132000 | H4: ='2026级硕士'!N4 -> 129000 | I4: =SUM(C4:H4) -> 261000
A5: 2 | B5: 教育学院 | C5: ='2023级博士'!K5 -> 18500 | D5: ='2024级博士'!K5 -> 25900 | E5: ='2025级博士'!K5 -> 37000 | F5: ='2024级硕士'!L5 -> 245000 | G5: ='2025级硕士'!L5 -> 239000 | H5: ='2026级硕士'!N5 -> 224000 | I5: =SUM(C5:H5) -> 789400
A6: 3 | B6: 心理学院 | C6: ='2023级博士'!K6 -> 11100 | D6: ='2024级博士'!K6 -> 14800 | E6: ='2025级博士'!K6 -> 18500 | F6: ='2024级硕士'!L6 -> 242000 | G6: ='2025级硕士'!L6 -> 217000 | H6: ='2026级硕士'!N6 -> 212000 | I6: =SUM(C6:H6) -> 715400
A7: 4 | B7: 经济学院 | C7: ='2023级博士'!K7 -> 18500 | D7: ='2024级博士'!K7 -> 22200 | E7: ='2025级博士'!K7 -> 18500 | F7: ='2024级硕士'!L7 -> 333000 | G7: ='2025级硕士'!L7 -> 371000 | H7: ='2026级硕士'!N7 -> 313000 | I7: =SUM(C7:H7) -> 1076200
A8: 5 | B8: 法学院 | C8: ='2023级博士'!K8 -> 0 | D8: ='2024级博士'!K8 -> 0 | E8: ='2025级博士'!K8 -> 0 | F8: ='2024级硕士'!L8 -> 201000 | G8: ='2025级硕士'!L8 -> 217000 | H8: ='2026级硕士'!N8 -> 170000 | I8: =SUM(C8:H8) -> 588000
A9: 6 | B9: 马克思主义学院 | C9: ='2023级博士'!K9 -> 62900 | D9: ='2024级博士'!K9 -> 62900 | E9: ='2025级博士'!K9 -> 66600 | F9: ='2024级硕士'!L9 -> 239000 | G9: ='2025级硕士'!L9 -> 355000 | H9: ='2026级硕士'!N9 -> 291000 | I9: =SUM(C9:H9) -> 1077400
A10: 7 | B10: 纪检监察学院 | C10: ='2023级博士'!K10 -> 0 | D10: ='2024级博士'!K10 -> 0 | E10: ='2025级博士'!K10 -> 0 | F10: ='2024级硕士'!L10 -> 0 | G10: ='2025级硕士'!L10 -> 41000 | H10: ='2026级硕士'!N10 -> 43000 | I10: =SUM(C10:H10) -> 84000
A11: 8 | B11: 文学院 | C11: ='2023级博士'!K11 -> 59200 | D11: ='2024级博士'!K11 -> 66600 | E11: ='2025级博士'!K11 -> 74000 | F11: ='2024级硕士'!L11 -> 509000 | G11: ='2025级硕士'!L11 -> 547000 | H11: ='2026级硕士'!N11 -> 699000 | I11: =SUM(C11:H11) -> 1954800
A12: 9 | B12: 外国语学院 | C12: ='2023级博士'!K12 -> 11100 | D12: ='2024级博士'!K12 -> 22200 | E12: ='2025级博士'!K12 -> 18500 | F12: ='2024级硕士'!L12 -> 349000 | G12: ='2025级硕士'!L12 -> 484000 | H12: ='2026级硕士'!N12 -> 444000 | I12: =SUM(C12:H12) -> 1328800
A13: 10 | B13: 传播学院 | C13: ='2023级博士'!K13 -> 11100 | D13: ='2024级博士'!K13 -> 29600 | E13: ='2025级博士'!K13 -> 29600 | F13: ='2024级硕士'!L13 -> 242000 | G13: ='2025级硕士'!L13 -> 242000 | H13: ='2026级硕士'!N13 -> 233000 | I13: =SUM(C13:H13) -> 787300
A14: 11 | B14: 社会历史学院 | C14: ='2023级博士'!K14 -> 18500 | D14: ='2024级博士'!K14 -> 25900 | E14: ='2025级博士'!K14 -> 33300 | F14: ='2024级硕士'!L14 -> 396000 | G14: ='2025级硕士'!L14 -> 459000 | H14: ='2026级硕士'!N14 -> 613000 | I14: =SUM(C14:H14) -> 1545700
A15: 12 | B15: 文化旅游与公共管理学院 | C15: ='2023级博士'!K15 -> 0 | D15: ='2024级博士'!K15 -> 0 | E15: ='2025级博士'!K15 -> 0 | F15: ='2024级硕士'!L15 -> 129000 | G15: ='2025级硕士'!L15 -> 217000 | H15: ='2026级硕士'!N15 -> 181000 | I15: =SUM(C15:H15) -> 527000
... A29: 26 | B29: 中共福建省委党校 | C29: ='2023级博士'!K29 -> 0 | D29: ='2024级博士'!K29 -> 0 | E29: ='2025级博士'!K29 -> 0 | F29: ='2024级硕士'!L29 -> 41000 | G29: ='2025级硕士'!L29 -> 25000 | H29: ='2026级硕士'!N29 -> 31000 | I29: =SUM(C29:H29) -> 97000
A30: 总计 | C30: =SUM(C4:C29) -> 714100 | D30: =SUM(D4:D29) -> 851000 | E30: =SUM(E4:E29) -> 969400 | F30: =SUM(F4:F29) -> 6452600 | G30: =SUM(G4:G29) -> 7660000 | H30: =SUM(H4:H29) -> 8086800 | I30: =SUM(I4:I29) -> 24733900
C37: ='2023级博士'!C30+'2024级博士'!C30+'2025级博士'!C30+'2024级硕士'!C30+'2025级硕士'!C30+'2026级硕士'!C30 -> 10705 | D37: 264 | E37: =C37+D37 -> 10969
